BEGIN:VCALENDAR
VERSION:2.0
PRODID:-//Allant Vers - ECPv6.15.20//NONSGML v1.0//EN
CALSCALE:GREGORIAN
METHOD:PUBLISH
X-ORIGINAL-URL:https://allant-vers.fr
X-WR-CALDESC:Évènements pour Allant Vers
REFRESH-INTERVAL;VALUE=DURATION:PT1H
X-Robots-Tag:noindex
X-PUBLISHED-TTL:PT1H
BEGIN:VTIMEZONE
TZID:UTC
BEGIN:STANDARD
TZOFFSETFROM:+0000
TZOFFSETTO:+0000
TZNAME:UTC
DTSTART:20220101T000000
END:STANDARD
END:VTIMEZONE
BEGIN:VEVENT
DTSTART;TZID=UTC:20230701T203000
DTEND;TZID=UTC:20230701T203000
DTSTAMP:20260421T075959
CREATED:20230618T154135Z
LAST-MODIFIED:20230618T154150Z
UID:486-1688243400-1688243400@allant-vers.fr
SUMMARY:Concert Jazz "Titat-Band"
DESCRIPTION:
URL:https://allant-vers.fr/event/concert-jazz-titat-band/
LOCATION:Halle de Cox\, Cox\, France
ATTACH;FMTTYPE=image/jpeg:https://allant-vers.fr/wp-content/uploads/2023/06/titatband_2023.jpg
END:VEVENT
END:VCALENDAR