BEGIN:VCALENDAR
VERSION:2.0
PRODID:-//Allant Vers - ECPv6.15.20//NONSGML v1.0//EN
CALSCALE:GREGORIAN
METHOD:PUBLISH
X-ORIGINAL-URL:https://allant-vers.fr
X-WR-CALDESC:Évènements pour Allant Vers
REFRESH-INTERVAL;VALUE=DURATION:PT1H
X-Robots-Tag:noindex
X-PUBLISHED-TTL:PT1H
BEGIN:VTIMEZONE
TZID:UTC
BEGIN:STANDARD
TZOFFSETFROM:+0000
TZOFFSETTO:+0000
TZNAME:UTC
DTSTART:20210101T000000
END:STANDARD
END:VTIMEZONE
BEGIN:VEVENT
DTSTART;TZID=UTC:20220916T200000
DTEND;TZID=UTC:20220916T200000
DTSTAMP:20260423T105917
CREATED:20220911T083231Z
LAST-MODIFIED:20220912T194733Z
UID:346-1663358400-1663358400@allant-vers.fr
SUMMARY:Concert Classique
DESCRIPTION:Coup de cœur culinaire : \nSushi Moon offre la possibilité de commander des assiettes de sushis. \nRéservation sur: \nRéservaton Sushi
URL:https://allant-vers.fr/event/concert-classique/
LOCATION:Allant Vers Bar associatif\, Cox\, France
ATTACH;FMTTYPE=image/jpeg:https://allant-vers.fr/wp-content/uploads/2022/09/allantvers_concert_sylvainrullier.jpg
END:VEVENT
BEGIN:VEVENT
DTSTART;TZID=UTC:20220924T103000
DTEND;TZID=UTC:20220924T103000
DTSTAMP:20260423T105917
CREATED:20220911T083448Z
LAST-MODIFIED:20220921T192927Z
UID:350-1664015400-1664015400@allant-vers.fr
SUMMARY:World Clean Up Day
DESCRIPTION:
URL:https://allant-vers.fr/event/world-clean-up-day/
LOCATION:Allant Vers Bar associatif\, Cox\, France
ATTACH;FMTTYPE=image/jpeg:https://allant-vers.fr/wp-content/uploads/2022/09/cleanupday-scaled.jpg
END:VEVENT
BEGIN:VEVENT
DTSTART;TZID=UTC:20220924T200000
DTEND;TZID=UTC:20220924T220000
DTSTAMP:20260423T105917
CREATED:20220911T083335Z
LAST-MODIFIED:20220919T195930Z
UID:348-1664049600-1664056800@allant-vers.fr
SUMMARY:Concert: The Blue Lodge Duo
DESCRIPTION:Entrée: 10 € \nRestauration sur réservation: Porc noir\, salade et frites! – 12€
URL:https://allant-vers.fr/event/concert-the-blue-lodge-duo/
LOCATION:Allant Vers Bar associatif\, Cox\, France
ATTACH;FMTTYPE=image/jpeg:https://allant-vers.fr/wp-content/uploads/2022/09/allantvers_bluelodgeduo.jpg
END:VEVENT
END:VCALENDAR