BEGIN:VCALENDAR
VERSION:2.0
PRODID:-//Allant Vers - ECPv6.15.20//NONSGML v1.0//EN
CALSCALE:GREGORIAN
METHOD:PUBLISH
X-ORIGINAL-URL:https://allant-vers.fr
X-WR-CALDESC:Évènements pour Allant Vers
REFRESH-INTERVAL;VALUE=DURATION:PT1H
X-Robots-Tag:noindex
X-PUBLISHED-TTL:PT1H
BEGIN:VTIMEZONE
TZID:UTC
BEGIN:STANDARD
TZOFFSETFROM:+0000
TZOFFSETTO:+0000
TZNAME:UTC
DTSTART:20210101T000000
END:STANDARD
END:VTIMEZONE
BEGIN:VEVENT
DTSTART;TZID=UTC:20220702T203000
DTEND;TZID=UTC:20220702T203000
DTSTAMP:20260423T134726
CREATED:20220702T095710Z
LAST-MODIFIED:20220702T095710Z
UID:332-1656793800-1656793800@allant-vers.fr
SUMMARY:Ti-Tat-Band
DESCRIPTION:Le big band jazzy-funky\nSauce salsa\nSous la halle de Cox
URL:https://allant-vers.fr/event/ti-tat-band/
LOCATION:Halle de Cox\, Cox\, France
ATTACH;FMTTYPE=image/jpeg:https://allant-vers.fr/wp-content/uploads/2022/07/titat-band1-scaled.jpg
END:VEVENT
BEGIN:VEVENT
DTSTART;TZID=UTC:20220728T200000
DTEND;TZID=UTC:20220728T200000
DTSTAMP:20260423T134726
CREATED:20220726T105102Z
LAST-MODIFIED:20220726T105102Z
UID:336-1659038400-1659038400@allant-vers.fr
SUMMARY:Concert: The Midnight Ramblers
DESCRIPTION:
URL:https://allant-vers.fr/event/concert-the-midnight-ramblers/
LOCATION:Allant Vers Bar associatif\, Cox\, France
ATTACH;FMTTYPE=image/jpeg:https://allant-vers.fr/wp-content/uploads/2022/07/midnightramblers.jpg
END:VEVENT
END:VCALENDAR