BEGIN:VCALENDAR
VERSION:2.0
PRODID:-//Allant Vers - ECPv6.15.20//NONSGML v1.0//EN
CALSCALE:GREGORIAN
METHOD:PUBLISH
X-ORIGINAL-URL:https://allant-vers.fr
X-WR-CALDESC:Évènements pour Allant Vers
REFRESH-INTERVAL;VALUE=DURATION:PT1H
X-Robots-Tag:noindex
X-PUBLISHED-TTL:PT1H
BEGIN:VTIMEZONE
TZID:UTC
BEGIN:STANDARD
TZOFFSETFROM:+0000
TZOFFSETTO:+0000
TZNAME:UTC
DTSTART:20210101T000000
END:STANDARD
END:VTIMEZONE
BEGIN:VEVENT
DTSTART;TZID=UTC:20220603T203000
DTEND;TZID=UTC:20220603T203000
DTSTAMP:20260423T150828
CREATED:20220602T193703Z
LAST-MODIFIED:20220602T193703Z
UID:305-1654288200-1654288200@allant-vers.fr
SUMMARY:"Reprise" - Rock Pop et Country
DESCRIPTION:
URL:https://allant-vers.fr/event/reprise-rock-pop-et-country/
LOCATION:Allant Vers Bar associatif\, Cox\, France
ATTACH;FMTTYPE=image/jpeg:https://allant-vers.fr/wp-content/uploads/2022/06/rockpop_reprise_2022.jpg
END:VEVENT
BEGIN:VEVENT
DTSTART;TZID=UTC:20220611T180000
DTEND;TZID=UTC:20220611T180000
DTSTAMP:20260423T150828
CREATED:20220602T193831Z
LAST-MODIFIED:20220602T193831Z
UID:309-1654970400-1654970400@allant-vers.fr
SUMMARY:Ciné Club
DESCRIPTION:18H00-19H00: Programmation enfant\n20H00-21H30 Programmation adulte
URL:https://allant-vers.fr/event/cine-club/
LOCATION:Allant Vers Bar associatif\, Cox\, France
END:VEVENT
BEGIN:VEVENT
DTSTART;VALUE=DATE:20220612
DTEND;VALUE=DATE:20220613
DTSTAMP:20260423T150828
CREATED:20220602T194403Z
LAST-MODIFIED:20220602T194403Z
UID:311-1654992000-1655078399@allant-vers.fr
SUMMARY:Marché des Potiers
DESCRIPTION:Nous serons ouvert toute la journée (avec petite restauration le midi) pour le grand Marché des Potiers de Cox.\nVenez nombreux !
URL:https://allant-vers.fr/event/marche-des-potiers/
ATTACH;FMTTYPE=image/jpeg:https://allant-vers.fr/wp-content/uploads/2022/06/potters-wheel-gcc8c851f0_640.jpg
END:VEVENT
BEGIN:VEVENT
DTSTART;TZID=UTC:20220621T203000
DTEND;TZID=UTC:20220621T203000
DTSTAMP:20260423T150828
CREATED:20220602T195332Z
LAST-MODIFIED:20220608T170339Z
UID:314-1655843400-1655843400@allant-vers.fr
SUMMARY:Fête de la musique
DESCRIPTION:Avec les groupes « Midnight Rambler » et « 5.1 » \ndu funk et du rock
URL:https://allant-vers.fr/event/fete-de-la-musique/
LOCATION:Allant Vers Bar associatif\, Cox\, France
ATTACH;FMTTYPE=image/jpeg:https://allant-vers.fr/wp-content/uploads/2022/06/FETE-DE-LA-MUSIQUE-20221.jpg
END:VEVENT
BEGIN:VEVENT
DTSTART;TZID=UTC:20220624T203000
DTEND;TZID=UTC:20220624T203000
DTSTAMP:20260423T150828
CREATED:20220602T195557Z
LAST-MODIFIED:20220602T195557Z
UID:317-1656102600-1656102600@allant-vers.fr
SUMMARY:Concert-expérience "FREEWAY"
DESCRIPTION:Avec Anton Ripatti \nSpectacle éclectic-psychédélic-noir
URL:https://allant-vers.fr/event/concert-experience-freeway/
LOCATION:Allant Vers Bar associatif\, Cox\, France
END:VEVENT
BEGIN:VEVENT
DTSTART;TZID=UTC:20220626T150000
DTEND;TZID=UTC:20220626T173000
DTSTAMP:20260423T150828
CREATED:20220602T200226Z
LAST-MODIFIED:20220602T200535Z
UID:319-1656255600-1656264600@allant-vers.fr
SUMMARY:Café Compost
DESCRIPTION:« Potager sur sol vivant 2 » \navec Florian
URL:https://allant-vers.fr/event/cafe-compost/
LOCATION:Allant Vers Bar associatif\, Cox\, France
ATTACH;FMTTYPE=image/jpeg:https://allant-vers.fr/wp-content/uploads/2022/06/Cafe-compost_max300x300.jpg
END:VEVENT
END:VCALENDAR