BEGIN:VCALENDAR
VERSION:2.0
PRODID:-//Allant Vers - ECPv6.15.20//NONSGML v1.0//EN
CALSCALE:GREGORIAN
METHOD:PUBLISH
X-WR-CALNAME:Allant Vers
X-ORIGINAL-URL:https://allant-vers.fr
X-WR-CALDESC:Évènements pour Allant Vers
REFRESH-INTERVAL;VALUE=DURATION:PT1H
X-Robots-Tag:noindex
X-PUBLISHED-TTL:PT1H
BEGIN:VTIMEZONE
TZID:UTC
BEGIN:STANDARD
TZOFFSETFROM:+0000
TZOFFSETTO:+0000
TZNAME:UTC
DTSTART:20220101T000000
END:STANDARD
END:VTIMEZONE
BEGIN:VEVENT
DTSTART;TZID=UTC:20230318T170000
DTEND;TZID=UTC:20230318T170000
DTSTAMP:20260421T150502
CREATED:20230223T102942Z
LAST-MODIFIED:20230223T102942Z
UID:455-1679158800-1679158800@allant-vers.fr
SUMMARY:Rencontre avec l'association AMAR et présentation de l'exposition "les routes de l'exil"
DESCRIPTION:
URL:https://allant-vers.fr/event/rencontre-avec-lassociation-amar-et-presentation-de-lexposition-les-routes-de-lexil/
LOCATION:Allant Vers Bar associatif\, Cox\, France
ATTACH;FMTTYPE=image/jpeg:https://allant-vers.fr/wp-content/uploads/2023/02/allant_vers_18_mars_amar_clown.jpeg
END:VEVENT
BEGIN:VEVENT
DTSTART;TZID=UTC:20230318T210000
DTEND;TZID=UTC:20230318T210000
DTSTAMP:20260421T150502
CREATED:20230223T103112Z
LAST-MODIFIED:20230228T185220Z
UID:457-1679173200-1679173200@allant-vers.fr
SUMMARY:Spectacle de Clown "entre deux" avec Pierrot et France de la compagnie "éclair de lune"
DESCRIPTION:Petite restauration: \nMenu africain (Banane plantain frit\, poulet yassa (option vegetarien possible)\, riz) \nRéservation *ici*
URL:https://allant-vers.fr/event/spectacle-de-clown-entre-deux-avec-pierrot-et-france-de-la-compagnie-eclair-de-lune/
LOCATION:Allant Vers Bar associatif\, Cox\, France
ATTACH;FMTTYPE=image/jpeg:https://allant-vers.fr/wp-content/uploads/2023/02/allant_vers_18_mars_amar_clown.jpeg
END:VEVENT
END:VCALENDAR