BEGIN:VCALENDAR
VERSION:2.0
PRODID:-//Allant Vers - ECPv6.15.20//NONSGML v1.0//EN
CALSCALE:GREGORIAN
METHOD:PUBLISH
X-ORIGINAL-URL:https://allant-vers.fr
X-WR-CALDESC:Évènements pour Allant Vers
REFRESH-INTERVAL;VALUE=DURATION:PT1H
X-Robots-Tag:noindex
X-PUBLISHED-TTL:PT1H
BEGIN:VTIMEZONE
TZID:UTC
BEGIN:STANDARD
TZOFFSETFROM:+0000
TZOFFSETTO:+0000
TZNAME:UTC
DTSTART:20220101T000000
END:STANDARD
END:VTIMEZONE
BEGIN:VEVENT
DTSTART;TZID=UTC:20230311T210000
DTEND;TZID=UTC:20230311T210000
DTSTAMP:20260421T153220
CREATED:20230223T102548Z
LAST-MODIFIED:20230228T185032Z
UID:453-1678568400-1678568400@allant-vers.fr
SUMMARY:Concert Poétique "La trace du papillon" de Camille Sabathier & Alexis Kowalozewski
DESCRIPTION:Tarif: 8€/10€/12€ (selon possibilité) \n  \nPetite restauration sur place. Réservation: *ici*
URL:https://allant-vers.fr/event/concert-poetique-la-trace-du-papillon-de-camille-sabathier-alexis-kowalozewski/
LOCATION:Allant Vers Bar associatif\, Cox\, France
ATTACH;FMTTYPE=image/jpeg:https://allant-vers.fr/wp-content/uploads/2023/02/allant_vers_11_concert_poetique.jpeg
END:VEVENT
END:VCALENDAR