BEGIN:VCALENDAR
VERSION:2.0
PRODID:-//Allant Vers - ECPv6.15.20//NONSGML v1.0//EN
CALSCALE:GREGORIAN
METHOD:PUBLISH
X-ORIGINAL-URL:https://allant-vers.fr
X-WR-CALDESC:Évènements pour Allant Vers
REFRESH-INTERVAL;VALUE=DURATION:PT1H
X-Robots-Tag:noindex
X-PUBLISHED-TTL:PT1H
BEGIN:VTIMEZONE
TZID:UTC
BEGIN:STANDARD
TZOFFSETFROM:+0000
TZOFFSETTO:+0000
TZNAME:UTC
DTSTART:20210101T000000
END:STANDARD
END:VTIMEZONE
BEGIN:VEVENT
DTSTART;TZID=UTC:20221104T200000
DTEND;TZID=UTC:20221104T200000
DTSTAMP:20260421T202807
CREATED:20221021T175721Z
LAST-MODIFIED:20221021T175721Z
UID:392-1667592000-1667592000@allant-vers.fr
SUMMARY:Repas "Fin de MOI"  - Soirée Kartoffel
DESCRIPTION:« L’association Allant-Vers se lance\, chaque premier vendredi du mois\, dans l’organisation d’un repas proposé par un adhérent qui fait profiter à tous une de ses spécialités culinaires ! Fini le solo\, vive le collectif : c’est le repas de fin du MOI.\n\n\nÉvidemment\, Le repas de fin du MOI de l’association allant-vers tombe au début du mois (c.a.d. a l’envers) ! »\nReservation obligatoire *ici* (jusqu’au 2 novembre).
URL:https://allant-vers.fr/event/repas-fin-de-moi-soiree-kartoffel/
LOCATION:Allant Vers Bar associatif\, Cox\, France
ATTACH;FMTTYPE=image/jpeg:https://allant-vers.fr/wp-content/uploads/2022/10/soiree-kartoffel.jpg
END:VEVENT
END:VCALENDAR