BEGIN:VCALENDAR
VERSION:2.0
PRODID:-//Allant Vers - ECPv6.15.20//NONSGML v1.0//EN
CALSCALE:GREGORIAN
METHOD:PUBLISH
X-WR-CALNAME:Allant Vers
X-ORIGINAL-URL:https://allant-vers.fr
X-WR-CALDESC:Évènements pour Allant Vers
REFRESH-INTERVAL;VALUE=DURATION:PT1H
X-Robots-Tag:noindex
X-PUBLISHED-TTL:PT1H
BEGIN:VTIMEZONE
TZID:UTC
BEGIN:STANDARD
TZOFFSETFROM:+0000
TZOFFSETTO:+0000
TZNAME:UTC
DTSTART:20210101T000000
END:STANDARD
END:VTIMEZONE
BEGIN:VEVENT
DTSTART;TZID=UTC:20221015T170000
DTEND;TZID=UTC:20221015T170000
DTSTAMP:20260423T105735
CREATED:20221006T185645Z
LAST-MODIFIED:20221006T191748Z
UID:369-1665853200-1665853200@allant-vers.fr
SUMMARY:Le jour de la nuit
DESCRIPTION:L’association Allant Vers (Cox) a le plaisir de vous inviter à l’événement « Le Jour de la Nuit » le\nsamedi 15 octobre 2022 à 17h00 au terrain de rugby de Brignemont. \nRéservation obligatoire *ici*
URL:https://allant-vers.fr/event/le-jour-de-la-nuit/
LOCATION:Terrain de rugby Brignemont\, Brignemont
ATTACH;FMTTYPE=image/jpeg:https://allant-vers.fr/wp-content/uploads/2022/10/jourdelanuit_programme-scaled.jpg
END:VEVENT
END:VCALENDAR