BEGIN:VCALENDAR
VERSION:2.0
PRODID:-//Allant Vers - ECPv6.15.20//NONSGML v1.0//EN
CALSCALE:GREGORIAN
METHOD:PUBLISH
X-WR-CALNAME:Allant Vers
X-ORIGINAL-URL:https://allant-vers.fr
X-WR-CALDESC:Évènements pour Allant Vers
REFRESH-INTERVAL;VALUE=DURATION:PT1H
X-Robots-Tag:noindex
X-PUBLISHED-TTL:PT1H
BEGIN:VTIMEZONE
TZID:UTC
BEGIN:STANDARD
TZOFFSETFROM:+0000
TZOFFSETTO:+0000
TZNAME:UTC
DTSTART:20210101T000000
END:STANDARD
END:VTIMEZONE
BEGIN:VEVENT
DTSTART;TZID=UTC:20220429T180000
DTEND;TZID=UTC:20220429T200000
DTSTAMP:20260423T173209
CREATED:20220415T075520Z
LAST-MODIFIED:20220415T075520Z
UID:288-1651255200-1651262400@allant-vers.fr
SUMMARY:Tatiana Strelkoff\, Claire Ledez et Brigitte Delaunoy
DESCRIPTION:Dessin peinture & tapisserie d’art\nEn expo tout le mois de mai \nVernissage concert avec Basa Duo\nCréée en avril 2019\, une fusion moderne franco-africaine. Baba Sayon Diabaté au Balafon\, Elsa Keita à la guitare\, la magie de Basa et sa profonde humanité vous emporte ailleurs. Accompagnés de percussionnistes\, Madou Diakité ou Alsény Solo Chérif\, la complicité de ces musiciens nous amène dans un nouveau style\, la World-Musique-Dynamique.
URL:https://allant-vers.fr/event/tatiana-strelkoff-claire-ledez-et-brigitte-delaunoy/
ATTACH;FMTTYPE=image/jpeg:https://allant-vers.fr/wp-content/uploads/2022/04/basa_duo_7.jpg
END:VEVENT
END:VCALENDAR