BEGIN:VCALENDAR
VERSION:2.0
PRODID:-//Allant Vers - ECPv6.15.20//NONSGML v1.0//EN
CALSCALE:GREGORIAN
METHOD:PUBLISH
X-ORIGINAL-URL:https://allant-vers.fr
X-WR-CALDESC:Évènements pour Allant Vers
REFRESH-INTERVAL;VALUE=DURATION:PT1H
X-Robots-Tag:noindex
X-PUBLISHED-TTL:PT1H
BEGIN:VTIMEZONE
TZID:UTC
BEGIN:STANDARD
TZOFFSETFROM:+0000
TZOFFSETTO:+0000
TZNAME:UTC
DTSTART:20210101T000000
END:STANDARD
END:VTIMEZONE
BEGIN:VEVENT
DTSTART;TZID=UTC:20220423T203000
DTEND;TZID=UTC:20220423T230000
DTSTAMP:20260423T184348
CREATED:20220415T075208Z
LAST-MODIFIED:20220415T075311Z
UID:285-1650745800-1650754800@allant-vers.fr
SUMMARY:Fernet Branka (Turbo acustico)
DESCRIPTION:Trio turbo accoustico qui dépoto – A voir sans modération. \n€/8€/12€ selon vos possibilités
URL:https://allant-vers.fr/event/fernet-branka-turbo-acustico/
LOCATION:Allant Vers Bar associatif\, Cox\, France
ATTACH;FMTTYPE=image/jpeg:https://allant-vers.fr/wp-content/uploads/2022/04/fernet_branka_2.jpg
END:VEVENT
END:VCALENDAR