BEGIN:VCALENDAR
VERSION:2.0
PRODID:-//Allant Vers - ECPv6.15.20//NONSGML v1.0//EN
CALSCALE:GREGORIAN
METHOD:PUBLISH
X-WR-CALNAME:Allant Vers
X-ORIGINAL-URL:https://allant-vers.fr
X-WR-CALDESC:Évènements pour Allant Vers
REFRESH-INTERVAL;VALUE=DURATION:PT1H
X-Robots-Tag:noindex
X-PUBLISHED-TTL:PT1H
BEGIN:VTIMEZONE
TZID:UTC
BEGIN:STANDARD
TZOFFSETFROM:+0000
TZOFFSETTO:+0000
TZNAME:UTC
DTSTART:20210101T000000
END:STANDARD
END:VTIMEZONE
BEGIN:VEVENT
DTSTART;TZID=UTC:20220416T093000
DTEND;TZID=UTC:20220416T123000
DTSTAMP:20260423T184121
CREATED:20220415T074910Z
LAST-MODIFIED:20220415T074910Z
UID:282-1650101400-1650112200@allant-vers.fr
SUMMARY:Mecano -  Atelier sécurité vélo avec l'asso Place ô Cycle
DESCRIPTION:A cours d’un atelier participatif \, des passionnés de vélo vous aident à faire la révision sécurité de votre vélo (frein\, roues\, pression…). De quoi partir tranquille sur les chemins de nos campagnes!\n*inscription obligatoire\nau 07 66 60 48 75 ou
URL:https://allant-vers.fr/event/mecano-atelier-securite-velo-avec-lasso-place-o-cycle/
ATTACH;FMTTYPE=image/jpeg:https://allant-vers.fr/wp-content/uploads/2022/04/Samedi_16_Avril_10H-12H1.jpg
END:VEVENT
END:VCALENDAR