BEGIN:VCALENDAR
VERSION:2.0
PRODID:-//Allant Vers - ECPv6.15.20//NONSGML v1.0//EN
CALSCALE:GREGORIAN
METHOD:PUBLISH
X-ORIGINAL-URL:https://allant-vers.fr
X-WR-CALDESC:Évènements pour Allant Vers
REFRESH-INTERVAL;VALUE=DURATION:PT1H
X-Robots-Tag:noindex
X-PUBLISHED-TTL:PT1H
BEGIN:VTIMEZONE
TZID:UTC
BEGIN:STANDARD
TZOFFSETFROM:+0000
TZOFFSETTO:+0000
TZNAME:UTC
DTSTART:20210101T000000
END:STANDARD
END:VTIMEZONE
BEGIN:VEVENT
DTSTART;TZID=UTC:20220410T143000
DTEND;TZID=UTC:20220410T163000
DTSTAMP:20260423T184307
CREATED:20220415T074408Z
LAST-MODIFIED:20220415T074408Z
UID:277-1649601000-1649608200@allant-vers.fr
SUMMARY:Atelier récupérateur d'eau du toit
DESCRIPTION:Jean Pierre nous guide dans l’art de récupérer l’eau de nos toits pour le plus grand bonheur de notre potager.
URL:https://allant-vers.fr/event/atelier-recuperateur-deau-du-toit/
ATTACH;FMTTYPE=image/jpeg:https://allant-vers.fr/wp-content/uploads/2022/04/allant_vers_10_avril-scaled.jpg
END:VEVENT
END:VCALENDAR