BEGIN:VCALENDAR
VERSION:2.0
PRODID:-//Allant Vers - ECPv6.15.20//NONSGML v1.0//EN
CALSCALE:GREGORIAN
METHOD:PUBLISH
X-WR-CALNAME:Allant Vers
X-ORIGINAL-URL:https://allant-vers.fr
X-WR-CALDESC:Évènements pour Allant Vers
REFRESH-INTERVAL;VALUE=DURATION:PT1H
X-Robots-Tag:noindex
X-PUBLISHED-TTL:PT1H
BEGIN:VTIMEZONE
TZID:Europe/Paris
BEGIN:DAYLIGHT
TZOFFSETFROM:+0100
TZOFFSETTO:+0200
TZNAME:CEST
DTSTART:20210328T010000
END:DAYLIGHT
BEGIN:STANDARD
TZOFFSETFROM:+0200
TZOFFSETTO:+0100
TZNAME:CET
DTSTART:20211031T010000
END:STANDARD
BEGIN:DAYLIGHT
TZOFFSETFROM:+0100
TZOFFSETTO:+0200
TZNAME:CEST
DTSTART:20220327T010000
END:DAYLIGHT
BEGIN:STANDARD
TZOFFSETFROM:+0200
TZOFFSETTO:+0100
TZNAME:CET
DTSTART:20221030T010000
END:STANDARD
BEGIN:DAYLIGHT
TZOFFSETFROM:+0100
TZOFFSETTO:+0200
TZNAME:CEST
DTSTART:20230326T010000
END:DAYLIGHT
BEGIN:STANDARD
TZOFFSETFROM:+0200
TZOFFSETTO:+0100
TZNAME:CET
DTSTART:20231029T010000
END:STANDARD
END:VTIMEZONE
BEGIN:VEVENT
DTSTART;TZID=Europe/Paris:20220319T150000
DTEND;TZID=Europe/Paris:20220319T210000
DTSTAMP:20260423T200307
CREATED:20220311T183038Z
LAST-MODIFIED:20250325T024219Z
UID:197-1647702000-1647723600@allant-vers.fr
SUMMARY:Cyber world clean up day
DESCRIPTION:Rare sont ceux qui ont déjà participé à une manifestation au nom aussi long ! C’est pour ça qu’on le nomme entre nous le Cyber WCUD !Tout le monde connaît le très fameux nettoyage de printemps…mais avez vous déjà pensez à dépoussiérer vos données numériques ? Et qui n’a pas en haut de son étagère un carton crasseux plein de téléphones portables cassés et inutiles ? Quoi ? Il n’y a que moi ?replica watches for sale \nLe Cyber World CleanUp Day est une journée de sensibilisation à l’empreinteenvironnementale du numérique par l’action\, qui a lieu le 19 mars 2022\, et la semaine précédant cette date au niveau national. L’objectif est de générer une prise de conscience en invitant 5% de la population à agir concrètement en nettoyant ses données et/ou offrant une seconde vie à tous ses équipements numériques qui dorment dans des tiroirs.replica rolex watchesPour l’occasion\, nous vous proposons de venir découvrir les logiciels libres grâce à Franck fin connaisseur des cyber truc libre (rendez vous à 15h). Nous organisons aussi une collecte de téléphone portable et de tablette afin d’être recyclé (des caisses sont déjà proposées à l’épi). Et enfin pour clôturer la soirée\, les professeurs de l’école de musique de Cadours nous feront partager leur répet’ générale…de 19h à 21h.top replica watches
URL:https://allant-vers.fr/event/cyber-world-clean-up-day/
LOCATION:Allant Vers Bar associatif\, Cox\, France
ATTACH;FMTTYPE=image/jpeg:https://allant-vers.fr/wp-content/uploads/2022/03/bandeau-2022_Plan-de-travail-1-1080x472-1.jpg
END:VEVENT
END:VCALENDAR